BEGIN:VCALENDAR
VERSION:2.0
PRODID:-//Gemeinde-Bunt - ECPv4.6.5//NONSGML v1.0//EN
CALSCALE:GREGORIAN
METHOD:PUBLISH
X-WR-CALNAME:Gemeinde-Bunt
X-ORIGINAL-URL:https://gemeinde-bunt.de
X-WR-CALDESC:Events for Gemeinde-Bunt
BEGIN:VEVENT
DTSTART;TZID=UTC+0:20250610T090000
DTEND;TZID=UTC+0:20250610T110000
DTSTAMP:20260421T185635
CREATED:20170412T144802Z
LAST-MODIFIED:20170412T144802Z
UID:12634-1749546000-1749553200@gemeinde-bunt.de
SUMMARY:Offenes Gemeindefrühstück
DESCRIPTION:
URL:https://gemeinde-bunt.de/termine/lorem-ipsum/2025-06-10
END:VEVENT
END:VCALENDAR