BEGIN:VCALENDAR
VERSION:2.0
PRODID:-//Gemeinde-Bunt - ECPv4.6.5//NONSGML v1.0//EN
CALSCALE:GREGORIAN
METHOD:PUBLISH
X-WR-CALNAME:Gemeinde-Bunt
X-ORIGINAL-URL:https://gemeinde-bunt.de
X-WR-CALDESC:Events for Gemeinde-Bunt
BEGIN:VEVENT
DTSTART;TZID=UTC+1:20221126T193000
DTEND;TZID=UTC+1:20221126T200000
DTSTAMP:20260426T040336
CREATED:20220915T152715Z
LAST-MODIFIED:20220915T152831Z
UID:14530-1669491000-1669492800@gemeinde-bunt.de
SUMMARY:Musikalischer Vorabendgottesdienst zum 1. Advent
DESCRIPTION:Im Anschluss Beisammensein bei Tee und Plätzchen \n
URL:https://gemeinde-bunt.de/termine/musikalischer-vorabendgottesdienst-zum-1-advent
LOCATION:Dorfstraße 43\, Salzwedel\, Sachsen-Anhalt\, 29410\, Deutschland
CATEGORIES:Gottesdienst
END:VEVENT
END:VCALENDAR