BEGIN:VCALENDAR
VERSION:2.0
PRODID:-//Gemeinde-Bunt - ECPv4.6.5//NONSGML v1.0//EN
CALSCALE:GREGORIAN
METHOD:PUBLISH
X-WR-CALNAME:Gemeinde-Bunt
X-ORIGINAL-URL:https://gemeinde-bunt.de
X-WR-CALDESC:Events for Gemeinde-Bunt
BEGIN:VEVENT
DTSTART;TZID=UTC+1:20240910T153000
DTEND;TZID=UTC+1:20240910T180000
DTSTAMP:20260422T014353
CREATED:20240909T145817Z
LAST-MODIFIED:20240909T150045Z
UID:15956-1725982200-1725991200@gemeinde-bunt.de
SUMMARY:Pfadfinder "Mutige Naturentdecker"
DESCRIPTION:
URL:https://gemeinde-bunt.de/termine/mutige-naturentdecker-2/2024-09-10
LOCATION:St. Georg-Straße 104\, Salzwedel\, Sachsen-Anhalt\, 29410\, Deutschland
CATEGORIES:Pfadfinder
END:VEVENT
END:VCALENDAR