BEGIN:VCALENDAR
VERSION:2.0
PRODID:-//Gemeinde-Bunt - ECPv4.6.5//NONSGML v1.0//EN
CALSCALE:GREGORIAN
METHOD:PUBLISH
X-WR-CALNAME:Gemeinde-Bunt
X-ORIGINAL-URL:https://gemeinde-bunt.de
X-WR-CALDESC:Events for Gemeinde-Bunt
BEGIN:VEVENT
DTSTART;TZID=UTC+1:20210904T140000
DTEND;TZID=UTC+1:20210904T150000
DTSTAMP:20260420T042307
CREATED:20210721T154228Z
LAST-MODIFIED:20210826T081136Z
UID:12732-1630764000-1630767600@gemeinde-bunt.de
SUMMARY:Neustart Konfirmanden-Unterricht
DESCRIPTION:Bitte Fahrräder mitbringen! \n
URL:https://gemeinde-bunt.de/termine/neustart-konfirmanden-unterricht
LOCATION:Katharinenkirche \, Salzwedel\, Sachsen-Anhalt\, 29410\, Deutschland
GEO:52.8552028;11.1565092
X-APPLE-STRUCTURED-LOCATION;VALUE=URI;X-ADDRESS=Katharinenkirche  Salzwedel Sachsen-Anhalt 29410 Deutschland;X-APPLE-RADIUS=500;X-TITLE=Katharinenkirche:geo:11.1565092,52.8552028
CATEGORIES:Konfirmanden
END:VEVENT
END:VCALENDAR