BEGIN:VCALENDAR
VERSION:2.0
PRODID:-//Gemeinde-Bunt - ECPv4.6.5//NONSGML v1.0//EN
CALSCALE:GREGORIAN
METHOD:PUBLISH
X-WR-CALNAME:Gemeinde-Bunt
X-ORIGINAL-URL:https://gemeinde-bunt.de
X-WR-CALDESC:Events for Gemeinde-Bunt
BEGIN:VEVENT
DTSTART;TZID=UTC+1:20180915T103000
DTEND;TZID=UTC+1:20180915T120000
DTSTAMP:20260421T120237
CREATED:20171028T084337Z
LAST-MODIFIED:20180911T125052Z
UID:9035-1537007400-1537012800@gemeinde-bunt.de
SUMMARY:offene Kirche St. Katharinen
DESCRIPTION:Sie haben die Möglichkeit \, die Kirche zu besichtigen. \n
URL:https://gemeinde-bunt.de/termine/offene-kirche-st-kathrinen-2018-09-15
LOCATION:Katharinenkirche \, Salzwedel\, Sachsen-Anhalt\, 29410\, Deutschland
GEO:52.8552028;11.1565092
X-APPLE-STRUCTURED-LOCATION;VALUE=URI;X-ADDRESS=Katharinenkirche  Salzwedel Sachsen-Anhalt 29410 Deutschland;X-APPLE-RADIUS=500;X-TITLE=Katharinenkirche:geo:11.1565092,52.8552028
CATEGORIES:Gemeindeangebote
END:VEVENT
END:VCALENDAR