BEGIN:VCALENDAR
VERSION:2.0
PRODID:-//Gemeinde-Bunt - ECPv4.6.5//NONSGML v1.0//EN
CALSCALE:GREGORIAN
METHOD:PUBLISH
X-WR-CALNAME:Gemeinde-Bunt
X-ORIGINAL-URL:https://gemeinde-bunt.de
X-WR-CALDESC:Events for Gemeinde-Bunt
BEGIN:VEVENT
DTSTART;TZID=UTC+1:20231210T160000
DTEND;TZID=UTC+1:20231210T163000
DTSTAMP:20260419T234307
CREATED:20171125T180549Z
LAST-MODIFIED:20231210T114115Z
UID:9369-1702224000-1702225800@gemeinde-bunt.de
SUMMARY:Orgelkonzert im Kerzenschein
DESCRIPTION:mit Andreas Becker \n
URL:https://gemeinde-bunt.de/termine/orgelkonzert-im-kerzenschein
LOCATION:Katharinenkirche \, Salzwedel\, Sachsen-Anhalt\, 29410\, Deutschland
GEO:52.8552028;11.1565092
X-APPLE-STRUCTURED-LOCATION;VALUE=URI;X-ADDRESS=Katharinenkirche  Salzwedel Sachsen-Anhalt 29410 Deutschland;X-APPLE-RADIUS=500;X-TITLE=Katharinenkirche:geo:11.1565092,52.8552028
CATEGORIES:Konzerte
END:VEVENT
END:VCALENDAR