BEGIN:VCALENDAR
VERSION:2.0
PRODID:-//Gemeinde-Bunt - ECPv4.6.5//NONSGML v1.0//EN
CALSCALE:GREGORIAN
METHOD:PUBLISH
X-WR-CALNAME:Gemeinde-Bunt
X-ORIGINAL-URL:https://gemeinde-bunt.de
X-WR-CALDESC:Events for Gemeinde-Bunt
BEGIN:VEVENT
DTSTART;TZID=UTC+1:20201031T170000
DTEND;TZID=UTC+1:20201031T183000
DTSTAMP:20260419T232749
CREATED:20170916T164823Z
LAST-MODIFIED:20211025T141343Z
UID:1881-1604163600-1604169000@gemeinde-bunt.de
SUMMARY:Orgelkonzert zum Reformationstag - St. Katharinen
DESCRIPTION:Orgelkonzert zum Reformationstag \nAn der Orgel: Kantor Roland J. Dyck \n
URL:https://gemeinde-bunt.de/termine/orgelkonzert-zum-reformationstag-st-marien
LOCATION:Katharinenkirche \, Salzwedel\, Sachsen-Anhalt\, 29410\, Deutschland
GEO:52.8552028;11.1565092
X-APPLE-STRUCTURED-LOCATION;VALUE=URI;X-ADDRESS=Katharinenkirche  Salzwedel Sachsen-Anhalt 29410 Deutschland;X-APPLE-RADIUS=500;X-TITLE=Katharinenkirche:geo:11.1565092,52.8552028
CATEGORIES:Chronik
END:VEVENT
END:VCALENDAR