BEGIN:VCALENDAR
VERSION:2.0
PRODID:-//Gemeinde-Bunt - ECPv4.6.5//NONSGML v1.0//EN
CALSCALE:GREGORIAN
METHOD:PUBLISH
X-WR-CALNAME:Gemeinde-Bunt
X-ORIGINAL-URL:https://gemeinde-bunt.de
X-WR-CALDESC:Events for Gemeinde-Bunt
BEGIN:VEVENT
DTSTART;TZID=UTC+1:20220324T183000
DTEND;TZID=UTC+1:20220324T190000
DTSTAMP:20260421T202305
CREATED:20180213T170434Z
LAST-MODIFIED:20220307T164459Z
UID:13785-1648146600-1648148400@gemeinde-bunt.de
SUMMARY:Passionsandacht
DESCRIPTION:
URL:https://gemeinde-bunt.de/termine/passionsandacht-2/2022-03-24
LOCATION:St. Georg-Straße 104\, Salzwedel\, Sachsen-Anhalt\, 29410\, Deutschland
CATEGORIES:Andacht,Groß Chüden,Kuhfelde,St. Georg,St. Katharinen
END:VEVENT
END:VCALENDAR