BEGIN:VCALENDAR
VERSION:2.0
PRODID:-//Gemeinde-Bunt - ECPv4.6.5//NONSGML v1.0//EN
CALSCALE:GREGORIAN
METHOD:PUBLISH
X-WR-CALNAME:Gemeinde-Bunt
X-ORIGINAL-URL:https://gemeinde-bunt.de
X-WR-CALDESC:Events for Gemeinde-Bunt
BEGIN:VEVENT
DTSTART;TZID=UTC+1:20230124T200000
DTEND;TZID=UTC+1:20230124T210000
DTSTAMP:20260425T220146
CREATED:20171027T161118Z
LAST-MODIFIED:20230116T181527Z
UID:9012-1674590400-1674594000@gemeinde-bunt.de
SUMMARY:Probe Gemeindechor
DESCRIPTION:
URL:https://gemeinde-bunt.de/termine/probe-gemeindechor-2/2023-01-24
LOCATION:An der Katharinenkirche 6\, Salzwedel\, Sachsen-Anhalt\, 29410\, Deutschland
GEO:52.85536;11.15654
X-APPLE-STRUCTURED-LOCATION;VALUE=URI;X-ADDRESS=An der Katharinenkirche 6 Salzwedel Sachsen-Anhalt 29410 Deutschland;X-APPLE-RADIUS=500;X-TITLE=An der Katharinenkirche 6:geo:11.15654,52.85536
CATEGORIES:Chorprobe
END:VEVENT
END:VCALENDAR