BEGIN:VCALENDAR
VERSION:2.0
PRODID:-//Gemeinde-Bunt - ECPv4.6.5//NONSGML v1.0//EN
CALSCALE:GREGORIAN
METHOD:PUBLISH
X-WR-CALNAME:Gemeinde-Bunt
X-ORIGINAL-URL:https://gemeinde-bunt.de
X-WR-CALDESC:Events for Gemeinde-Bunt
BEGIN:VEVENT
DTSTART;TZID=UTC+1:20191014T193000
DTEND;TZID=UTC+1:20191014T213000
DTSTAMP:20260421T120247
CREATED:20170612T152734Z
LAST-MODIFIED:20191011T163736Z
UID:11155-1571081400-1571088600@gemeinde-bunt.de
SUMMARY:Probe Kantorei- Nur Tenor!!!!
DESCRIPTION:
URL:https://gemeinde-bunt.de/termine/probe-kantorei-2018-08-27-2019-10-14
LOCATION:An der Katharinenkirche 6\, Salzwedel\,  \, 29410\, Deutschland
GEO:52.85536;11.15654
X-APPLE-STRUCTURED-LOCATION;VALUE=URI;X-ADDRESS=An der Katharinenkirche 6 Salzwedel   29410 Deutschland;X-APPLE-RADIUS=500;X-TITLE=An der Katharinenkirche 6:geo:11.15654,52.85536
CATEGORIES:Chorprobe
ORGANIZER;CN="Kantorei%20Salzwedel":MAILTO:matthiasboehert@gmx.de
END:VEVENT
END:VCALENDAR