BEGIN:VCALENDAR
VERSION:2.0
PRODID:-//Gemeinde-Bunt - ECPv4.6.5//NONSGML v1.0//EN
CALSCALE:GREGORIAN
METHOD:PUBLISH
X-WR-CALNAME:Gemeinde-Bunt
X-ORIGINAL-URL:https://gemeinde-bunt.de
X-WR-CALDESC:Events for Gemeinde-Bunt
BEGIN:VEVENT
DTSTART;TZID=UTC+1:20250316T100000
DTEND;TZID=UTC+1:20250316T113000
DTSTAMP:20260425T132306
CREATED:20171120T155712Z
LAST-MODIFIED:20250218T150518Z
UID:9303-1742119200-1742124600@gemeinde-bunt.de
SUMMARY:Regionaler Gottesdienst im Christlichen Jugenddorf
DESCRIPTION:Fahrdienst ab 09:30 Uhr ab jeweiliger Kirche \n
URL:https://gemeinde-bunt.de/termine/regionaler-gottesdienst-im-christlichen-jugenddorf
LOCATION:Gerstedter Weg 9B\, Salzwedel\, Sachsen-Anhalt\, 29410\, Deutschland
CATEGORIES:Gottesdienst
END:VEVENT
END:VCALENDAR