BEGIN:VCALENDAR
VERSION:2.0
PRODID:-//Gemeinde-Bunt - ECPv4.6.5//NONSGML v1.0//EN
CALSCALE:GREGORIAN
METHOD:PUBLISH
X-WR-CALNAME:Gemeinde-Bunt
X-ORIGINAL-URL:https://gemeinde-bunt.de
X-WR-CALDESC:Events for Gemeinde-Bunt
BEGIN:VEVENT
DTSTART;TZID=UTC+1:20240928T160000
DTEND;TZID=UTC+1:20240928T170000
DTSTAMP:20260424T075655
CREATED:20180222T160937Z
LAST-MODIFIED:20240904T173225Z
UID:9851-1727539200-1727542800@gemeinde-bunt.de
SUMMARY:Erntedank-Gottesdienst Klein Gartz
DESCRIPTION:
URL:https://gemeinde-bunt.de/termine/regionaler-gottesdienst-klein-gartz
LOCATION:Klein Gartz\, Salzwedel\, Sachsen-Anhalt\, 29416\, Deutschland
GEO:52.822321;11.317419
X-APPLE-STRUCTURED-LOCATION;VALUE=URI;X-ADDRESS=Klein Gartz Salzwedel Sachsen-Anhalt 29416 Deutschland;X-APPLE-RADIUS=500;X-TITLE=Klein Gartz:geo:11.317419,52.822321
END:VEVENT
END:VCALENDAR