BEGIN:VCALENDAR
VERSION:2.0
PRODID:-//Gemeinde-Bunt - ECPv4.6.5//NONSGML v1.0//EN
CALSCALE:GREGORIAN
METHOD:PUBLISH
X-WR-CALNAME:Gemeinde-Bunt
X-ORIGINAL-URL:https://gemeinde-bunt.de
X-WR-CALDESC:Events for Gemeinde-Bunt
BEGIN:VEVENT
DTSTART;TZID=UTC+1:20241231T170000
DTEND;TZID=UTC+1:20241231T180000
DTSTAMP:20260425T113314
CREATED:20170820T143403Z
LAST-MODIFIED:20241127T193509Z
UID:1529-1735664400-1735668000@gemeinde-bunt.de
SUMMARY:Silvester-Gottesdienst in St. Marien
DESCRIPTION:
URL:https://gemeinde-bunt.de/termine/regionaler-gottesdienst-st-marien
LOCATION:Marienkirche\, Salzwedel\, Sachsen-Anhalt\, 29410\, Deutschland
GEO:52.84948;11.149008
X-APPLE-STRUCTURED-LOCATION;VALUE=URI;X-ADDRESS=Marienkirche Salzwedel Sachsen-Anhalt 29410 Deutschland;X-APPLE-RADIUS=500;X-TITLE=Marienkirche:geo:11.149008,52.84948
CATEGORIES:Gottesdienst
END:VEVENT
END:VCALENDAR