BEGIN:VCALENDAR
VERSION:2.0
PRODID:-//Gemeinde-Bunt - ECPv4.6.5//NONSGML v1.0//EN
CALSCALE:GREGORIAN
METHOD:PUBLISH
X-WR-CALNAME:Gemeinde-Bunt
X-ORIGINAL-URL:https://gemeinde-bunt.de
X-WR-CALDESC:Events for Gemeinde-Bunt
BEGIN:VEVENT
DTSTART;TZID=UTC+1:20241206T143000
DTEND;TZID=UTC+1:20241206T163000
DTSTAMP:20260422T014635
CREATED:20171109T152423Z
LAST-MODIFIED:20241014T112214Z
UID:9090-1733495400-1733502600@gemeinde-bunt.de
SUMMARY:Senioren-Adventsfeier Kirchspiel Groß Chüden
DESCRIPTION:
URL:https://gemeinde-bunt.de/termine/senioren-adventsfeier-kirchspiel-gross-chueden
LOCATION:Str. der Jugend 18\, Salzwedel\, 29410\, Deutschland
GEO:52.832571;11.2570581
X-APPLE-STRUCTURED-LOCATION;VALUE=URI;X-ADDRESS=Str. der Jugend 18 Salzwedel 29410 Deutschland;X-APPLE-RADIUS=500;X-TITLE=Str. der Jugend 18:geo:11.2570581,52.832571
CATEGORIES:Senioren
END:VEVENT
END:VCALENDAR