BEGIN:VCALENDAR
VERSION:2.0
PRODID:-//Gemeinde-Bunt - ECPv4.6.5//NONSGML v1.0//EN
CALSCALE:GREGORIAN
METHOD:PUBLISH
X-WR-CALNAME:Gemeinde-Bunt
X-ORIGINAL-URL:https://gemeinde-bunt.de
X-WR-CALDESC:Events for Gemeinde-Bunt
BEGIN:VEVENT
DTSTART;TZID=UTC+1:20230406T150000
DTEND;TZID=UTC+1:20230406T170000
DTSTAMP:20260420T030005
CREATED:20210915T162602Z
LAST-MODIFIED:20230227T173221Z
UID:12925-1680793200-1680800400@gemeinde-bunt.de
SUMMARY:Tischabendmahl in St. Georg
DESCRIPTION:
URL:https://gemeinde-bunt.de/termine/tischabendmahl-in-st-georg-2
LOCATION:St. Georg-Straße 104\, Salzwedel\, Sachsen-Anhalt\, 29410\, Deutschland
CATEGORIES:Gemeindeangebote,St. Georg
END:VEVENT
END:VCALENDAR