BEGIN:VCALENDAR
VERSION:2.0
PRODID:-//Gemeinde-Bunt - ECPv4.6.5//NONSGML v1.0//EN
CALSCALE:GREGORIAN
METHOD:PUBLISH
X-WR-CALNAME:Gemeinde-Bunt
X-ORIGINAL-URL:https://gemeinde-bunt.de
X-WR-CALDESC:Events for Gemeinde-Bunt
BEGIN:VEVENT
DTSTART;TZID=UTC+1:20180602T130000
DTEND;TZID=UTC+1:20180602T140000
DTSTAMP:20260419T195419
CREATED:20180519T092546Z
LAST-MODIFIED:20180519T092546Z
UID:10321-1527944400-1527948000@gemeinde-bunt.de
SUMMARY:Trauung Ehepaar Schulz
DESCRIPTION:
URL:https://gemeinde-bunt.de/termine/trauung-ehepaar-schulz
LOCATION:Valfitz\, Kuhfelde\, Sachsen-Anhalt\, 29416\, Deutschland
GEO:52.7645928;11.1203708
X-APPLE-STRUCTURED-LOCATION;VALUE=URI;X-ADDRESS=Valfitz Kuhfelde Sachsen-Anhalt 29416 Deutschland;X-APPLE-RADIUS=500;X-TITLE=Valfitz:geo:11.1203708,52.7645928
CATEGORIES:Gottesdienst
END:VEVENT
END:VCALENDAR