BEGIN:VCALENDAR
VERSION:2.0
PRODID:-//Gemeinde-Bunt - ECPv4.6.5//NONSGML v1.0//EN
CALSCALE:GREGORIAN
METHOD:PUBLISH
X-WR-CALNAME:Gemeinde-Bunt
X-ORIGINAL-URL:https://gemeinde-bunt.de
X-WR-CALDESC:Events for Gemeinde-Bunt
BEGIN:VEVENT
DTSTART;TZID=UTC+1:20220615T180000
DTEND;TZID=UTC+1:20220615T193000
DTSTAMP:20260421T185737
CREATED:20220526T142447Z
LAST-MODIFIED:20220526T142447Z
UID:14347-1655316000-1655321400@gemeinde-bunt.de
SUMMARY:Vortrag Buntglasfenster
DESCRIPTION:Ines Kahrens wird in der Reihe der\nKatharinenabende\neinen Vortrag zu den neuen\nBuntglasfenstern im Kirchsaal der\nAlten Lateinschule — die von ihr\nentworfen worden sind — halten.\nDie Veranstaltung wird in\nKooperation mit der Urania\ndurchgeführt. \n
URL:https://gemeinde-bunt.de/termine/vortrag-buntglasfenster
LOCATION:An der Katharinenkirche 6\, Salzwedel\, Sachsen-Anhalt\, 29410\, Deutschland
GEO:52.85536;11.15654
X-APPLE-STRUCTURED-LOCATION;VALUE=URI;X-ADDRESS=An der Katharinenkirche 6 Salzwedel Sachsen-Anhalt 29410 Deutschland;X-APPLE-RADIUS=500;X-TITLE=An der Katharinenkirche 6:geo:11.15654,52.85536
CATEGORIES:St. Katharinen
END:VEVENT
END:VCALENDAR