BEGIN:VCALENDAR
VERSION:2.0
PRODID:-//Gemeinde-Bunt - ECPv4.6.5//NONSGML v1.0//EN
CALSCALE:GREGORIAN
METHOD:PUBLISH
X-WR-CALNAME:Gemeinde-Bunt
X-ORIGINAL-URL:https://gemeinde-bunt.de
X-WR-CALDESC:Events for Gemeinde-Bunt
BEGIN:VEVENT
DTSTART;TZID=UTC+1:20250307T180000
DTEND;TZID=UTC+1:20250307T200000
DTSTAMP:20260422T100419
CREATED:20180129T173143Z
LAST-MODIFIED:20250218T145930Z
UID:9544-1741370400-1741377600@gemeinde-bunt.de
SUMMARY:Weltgebetstag
DESCRIPTION: \n  \nWeitere Information: Weltgebetestag.de \n
URL:https://gemeinde-bunt.de/termine/weltgebetstag
LOCATION:St. Georg-Straße 104\, Salzwedel\, Sachsen-Anhalt\, 29410\, Deutschland
CATEGORIES:Gottesdienst
END:VEVENT
END:VCALENDAR